BEGIN:VCALENDAR
BEGIN:VEVENT
DTSTART;TZID=Europe/Amsterdam:20260104T100000
DTEND;TZID=Europe/Amsterdam:20260104T110000
RRULE:FREQ=WEEKLY;INTERVAL=1;UNTIL=20261231T235900Z
EXDATE:20260208T090000Z
UID:2264864A-0A1A-4AAF-A616-88699A935A53
SUMMARY:Kerkdienst Immanuelkerk 
CREATED:20250515T164330Z
DTSTAMP:20250515T164330Z
URL:https://mijn.gkermelo.nl/components/com_dpcalendar/agenda/kerkdienst-immanuelkerk-6
DESCRIPTION:Met het oog op \N\NVoorganger: Koster:Organist/pianist:Muzikanten:Lector:Oppas:Kindernevendienst: \N\NOrde van dienst\N\NInzameling> 1e collecte:> 2e collecte: kerk\NU kunt uw gift overmaken naar NL63 RABO 0373 7406 697 of via de optie 'geven' in de GK Ermelo app. \N\NDe diensten zijn te volgen via kerkomroep.nl of YouTube met de link: bit.ly/immanuelkerk
X-ALT-DESC;FMTTYPE=text/html:<p>Met het oog op&nbsp;</p><hr /><p>Voorganger:&nbsp;<br />Koster:<br />Organist/pianist:<br />Muzikanten:<br />Lector:<br />Oppas:<br />Kindernevendienst:&nbsp;</p><hr /><p>Orde van dienst</p><hr /><p>Inzameling<br />&gt; 1e collecte:<br />&gt; 2e collecte: kerk<br /><br /></p><p>U kunt uw gift overmaken naar&nbsp;<strong>NL63 RABO 0373 7406 697</strong>&nbsp;of via de optie 'geven' in de&nbsp;<a href="https://gift.donkeymobile.com/app.donkeymobile.ermelopkngk">GK Ermelo app</a>.&nbsp;</p><hr /><p>De diensten zijn te volgen via <a href="https://www.kerkomroep.nl/#/kerken/10965" target="_self">kerkomroep.nl </a>of YouTube met de link: <a href="https://www.youtube.com/channel/UC0JOaAYpGUgRbMiNMZ13hrA" target="_self">bit.ly/immanuelkerk</a></p>
LAST-MODIFIED:20260306T072202Z
SEQUENCE:25454312
X-ACCESS:2
X-HITS:0
X-COLOR:bd9a0f
X-SHOW-END-TIME:0
END:VEVENT
BEGIN:VEVENT
DTSTART;TZID=Europe/Amsterdam:20260308T100000
DTEND;TZID=Europe/Amsterdam:20260308T110000
UID:2264864A-0A1A-4AAF-A616-88699A935A53
RECURRENCE-ID:20260308T090000Z
SUMMARY:Kerkdienst Immanuelkerk 
CREATED:20250515T164330Z
DTSTAMP:20250515T164330Z
URL:https://mijn.gkermelo.nl/components/com_dpcalendar/agenda/kerkdienst-immanuelkerk-6-1772960400
DESCRIPTION:Zondag 8 maart a.s. hopen we elkaar te ontmoeten in de Immanuelkerk rondom Woord en sacrament. Juist in deze weken, nu wij opnieuw het lijden, sterven en de opstanding van onze Heiland gedenken mag het Heilig Avondmaal extra tot ons hart spreken. Het is immers ook de maaltijd van de gedachtenis. "Doe dit, om Mij te gedenken", sprak Jezus tot Zijn leerlingen. Of, met de woorden van Lied 385: 2 - 'wij delen, wij delen gewoon het dagelijks brood, en denken aan Jezus, zijn lijden, zijn dood. We lezen en overdenken in deze dienst Romeinen 8: 1-4.\NGraag wens ik u alvast een gezegende viering.\N\NVoorganger: ds. Henk Dekker, Bunschoten.Koster: Sybolt JousmaOrganist: Ans KuusLector: Ineke AardseOppas: Franca van de Kuilen en Mirthe van BarneveldKindernevendienst: Anneloes Folkers\N\NOrde van dienst\N\NOpeningslied: 975: 1, 2 – Jezus roept hier mensen samen…\NLied 975: 3, 4 – Jezus roept ons tot de ander…\NLied 653: 1, 2 – U kennen uit en tot U leven…\NProjectlied: Samen op weg naar Pasen\NSchriftlezing: Romeinen 8: 1-4 \NLied/ Psalm 103: 3, 4 – Hij is een God van liefde en genade…\NZingen: Lied 575: 1, 6 – Jezus, leven van ons leven…\NZingen: Lied 385: 1, 2,3 – de tafel van samen…\NZingen Lied 405: 1 Heilig, heilig, heilig….\NLied 381 Genadig Heer\NLied 512 O Jezus hoe vertrouwd en goed \NGezang 168 (Oude Liedboek): 1,2,3,4,5,6 – O Jezus Christus, licht ze bij….\NLied/Psalm 136: 12, 13 – Loof de Heer..\N\N\NInzameling> 1e collecte: werelddiaconaat: Egypte> 2e collecte: kerk\NU kunt uw gift overmaken naar NL63 RABO 0373 7406 697 of via de optie 'geven' in de GK Ermelo app. \N\NDe diensten zijn te volgen via kerkomroep.nl of YouTube met de link: bit.ly/immanuelkerk
X-ALT-DESC;FMTTYPE=text/html:<p>Zondag 8 maart a.s. hopen we elkaar te ontmoeten in de Immanuelkerk rondom Woord en sacrament. Juist in deze weken, nu wij opnieuw het lijden, sterven en de opstanding van onze Heiland gedenken mag het Heilig Avondmaal extra tot ons hart spreken. Het is immers ook de maaltijd van de gedachtenis. "Doe dit, om Mij te gedenken", sprak Jezus tot Zijn leerlingen. Of, met de woorden van Lied 385: 2 - 'wij delen, wij delen gewoon het dagelijks brood, en denken aan Jezus, zijn lijden, zijn dood. We lezen en overdenken in deze dienst Romeinen 8: 1-4.</p><p>Graag wens ik u alvast een gezegende viering.</p><hr /><p>Voorganger: ds. Henk Dekker, Bunschoten.<br />Koster: Sybolt Jousma<br />Organist: Ans Kuus<br />Lector: Ineke Aardse<br />Oppas:&nbsp;Franca van de Kuilen en Mirthe van Barneveld<br />Kindernevendienst: Anneloes Folkers</p><hr /><p>Orde van dienst</p><ul><li>Openingslied: 975: 1, 2 – Jezus roept hier mensen samen…</li><li>Lied 975: 3, 4 – Jezus roept ons tot de ander…</li><li>Lied 653: 1, 2 – U kennen uit en tot U leven…</li><li>Projectlied: Samen op weg naar Pasen</li><li>Schriftlezing: Romeinen 8: 1-4&nbsp;</li><li>Lied/ Psalm 103: 3, 4 – Hij is een God van liefde en genade…</li><li>Zingen: Lied 575: 1, 6 – Jezus, leven van ons leven…</li><li>Zingen: Lied 385: 1, 2,3 – de tafel van samen…</li><li>Zingen Lied 405: 1 Heilig, heilig, heilig….</li><li>Lied 381 Genadig Heer</li><li>Lied 512 O Jezus hoe vertrouwd en goed&nbsp;</li><li>Gezang 168 (Oude Liedboek): 1,2,3,4,5,6 – O Jezus Christus, licht ze bij….</li><li>Lied/Psalm 136: 12, 13 – Loof de Heer..</li></ul><hr /><p>Inzameling<br />&gt; 1e collecte: werelddiaconaat: Egypte<br />&gt; 2e collecte: kerk<br /><br /></p><p>U kunt uw gift overmaken naar&nbsp;<strong>NL63 RABO 0373 7406 697</strong>&nbsp;of via de optie 'geven' in de&nbsp;<a href="https://gift.donkeymobile.com/app.donkeymobile.ermelopkngk">GK Ermelo app</a>.&nbsp;</p><hr /><p>De diensten zijn te volgen via <a href="https://www.kerkomroep.nl/#/kerken/10965" target="_self">kerkomroep.nl </a>of YouTube met de link: <a href="https://www.youtube.com/channel/UC0JOaAYpGUgRbMiNMZ13hrA" target="_self">bit.ly/immanuelkerk</a></p>
LAST-MODIFIED:20260306T072450Z
SEQUENCE:25454480
X-ACCESS:2
X-HITS:0
X-COLOR:bd9a0f
X-SHOW-END-TIME:0
END:VEVENT
BEGIN:VEVENT
DTSTART;TZID=Europe/Amsterdam:20260315T100000
DTEND;TZID=Europe/Amsterdam:20260315T110000
UID:2264864A-0A1A-4AAF-A616-88699A935A53
RECURRENCE-ID:20260315T090000Z
SUMMARY:Kerkdienst Immanuelkerk 
CREATED:20250515T164330Z
DTSTAMP:20250515T164330Z
URL:https://mijn.gkermelo.nl/components/com_dpcalendar/agenda/kerkdienst-immanuelkerk-6-1773565200
DESCRIPTION:Passiedienst\N\NVoorganger: ds. Jan-Willem LeurgansKoster: Albert VeenstraOrganist/pianist: Bart Willemsen en Johan HarmsenMuzikanten: projectkoor (All4One en gemeenteleden), Marieke Booy (viool) en Myrthe van Hulst (cello)Lector: Jikke van de Schatte Olivier en Arina de WolfOppas: Marloes en Noa MallieClub-op-zondag en jeugdkerk\N\N\NAanvang: Orgel, viool en cello: Aria “Erbarme dich, mein Gott’\NLied/ Psalm 43: 1, 3 en 5 \NProjectlied: Samen op weg naar Pasen \NAfwisselend met de volgende liederen wordt Matteüs 26 en 27 gelezen\NKoor: Herzliebster Jesu, was hast du verbrochen\NKoor: Ich bin’s, ich sollte büssen\NKoor: Ich will hier bei dir stehen\NKoor: Was mein Gott will, das g’scheh all’zeit\NLied: O Mens, beween uw zonden groot \NKoor: Wer hat dich so geschlagen\NKoor: Bin ich gleich von dir gewichen\NLied 904:1: Beveel gerust uw wegen\NLied: Hoe wonderlijk is deze straf herschapen \NKoor: O Haupt voll Blut und Wunden\NKoor: Wenn ich einmal soll scheiden\NLied 576b vers 7 \NGezongen Luthers avondgebed \NLied 590: Nu valt de nacht \NUitleidende muziek Slotkoor van de Matteüs Passion: Wir setzen uns mit Tränen nieder\N\N\NInzameling> 1e collecte: werelddiaconaat: Moldavië> 2e collecte: kerk\NU kunt uw gift overmaken naar NL63 RABO 0373 7406 697 of via de optie 'geven' in de GK Ermelo app. \N\NDe diensten zijn te volgen via kerkomroep.nl of YouTube met de link: bit.ly/immanuelkerk
X-ALT-DESC;FMTTYPE=text/html:<p>Passiedienst</p><hr /><p>Voorganger:&nbsp;ds. Jan-Willem Leurgans<br />Koster: Albert Veenstra<br />Organist/pianist:&nbsp;Bart Willemsen en Johan Harmsen<br />Muzikanten:&nbsp;projectkoor (All4One en gemeenteleden), Marieke Booy (viool) en Myrthe van Hulst (cello)<br />Lector:&nbsp;Jikke van de Schatte Olivier en Arina de Wolf<br />Oppas:&nbsp;Marloes en Noa Mallie<br /><strong>Club-op-zondag en jeugdkerk</strong></p><hr /><ul><li>Aanvang: Orgel, viool en cello: Aria “Erbarme dich, mein Gott’</li><li>Lied/ Psalm 43: 1, 3 en 5&nbsp;</li><li>Projectlied: Samen op weg naar Pasen&nbsp;</li><li>Afwisselend met de volgende liederen wordt Matteüs 26 en 27 gelezen</li><li>Koor: Herzliebster Jesu, was hast du verbrochen</li><li>Koor: Ich bin’s, ich sollte büssen</li><li>Koor:&nbsp;Ich will hier bei dir stehen</li><li>Koor:&nbsp;Was mein Gott will, das g’scheh all’zeit</li><li>Lied: O Mens, beween uw zonden groot&nbsp;</li><li>Koor:&nbsp;Wer hat dich so geschlagen</li><li>Koor: Bin ich gleich von dir gewichen</li><li>Lied 904:1: Beveel gerust uw wegen</li><li>Lied: Hoe wonderlijk is deze straf herschapen&nbsp;</li><li>Koor:&nbsp;O Haupt voll Blut und Wunden</li><li>Koor:&nbsp;Wenn ich einmal soll scheiden</li><li>Lied 576b vers 7&nbsp;</li><li>Gezongen Luthers avondgebed&nbsp;</li><li>Lied 590: Nu valt de nacht&nbsp;</li><li>Uitleidende muziek Slotkoor van de Matteüs Passion: Wir setzen uns mit Tränen nieder</li></ul><hr /><p>Inzameling<br />&gt; 1e collecte: werelddiaconaat: Moldavië<br />&gt; 2e collecte: kerk</p><p>U kunt uw gift overmaken naar&nbsp;<strong>NL63 RABO 0373 7406 697</strong>&nbsp;of via de optie 'geven' in de&nbsp;<a href="https://gift.donkeymobile.com/app.donkeymobile.ermelopkngk">GK Ermelo app</a>.&nbsp;</p><hr /><p>De diensten zijn te volgen via <a href="https://www.kerkomroep.nl/#/kerken/10965" target="_self">kerkomroep.nl </a>of YouTube met de link: <a href="https://www.youtube.com/channel/UC0JOaAYpGUgRbMiNMZ13hrA" target="_self">bit.ly/immanuelkerk</a></p>
LAST-MODIFIED:20260312T212804Z
SEQUENCE:26023474
X-ACCESS:2
X-HITS:0
X-COLOR:bd9a0f
X-SHOW-END-TIME:0
END:VEVENT
BEGIN:VEVENT
DTSTART;TZID=Europe/Amsterdam:20260322T100000
DTEND;TZID=Europe/Amsterdam:20260322T110000
UID:2264864A-0A1A-4AAF-A616-88699A935A53
RECURRENCE-ID:20260322T090000Z
SUMMARY:Kerkdienst Immanuelkerk 
CREATED:20250515T164330Z
DTSTAMP:20250515T164330Z
URL:https://mijn.gkermelo.nl/components/com_dpcalendar/agenda/kerkdienst-immanuelkerk-6-1774170000
DESCRIPTION:In deze dienst worden Kees de Rook, zoon van Anne Kuik en Paul de Rook, en Selah Struijs, dochter van Tanja Struijs en Linda Bos gedoopt. De doop is een bijzonder moment voor de ouders en kinderen. Maar ook voor ons als gemeente. In de doop belooft God zijn trouw, en als gemeente worden wij erbij betrokken om samen met de ouders de kinderen te omringen met gebed, geloof en liefde. Daarom vieren we deze vreugdevolle dienst gezamenlijk!\N\NVoorganger: ds. Amanda Spies en ds. Jeannet van DoornKoster: Willemien van HoutenOrganist/pianist: Wiejan v.d. Akker en Wout van VeenMuzikanten: Anneloes Folkers, Hidde van Dijk, Goos de Jong, Nico van den Hoorn en Johan LolkemaLector: Reenine StouteOppas: Lotte van der Meij en Anneke UIttenbogaardKindernevendienst: Laura van Barneveld\N\NOrde van dienst\N\NHH 707 (Katern 32) - Met open armen\NEvang. LB 382: 1 en 3 - Heer, uw licht en uw liefde schijnen\NProjectlied - Samen op weg naar Pasen\N1e lezing - 1 Koningen 17: 10-16\NN. Liedboek 833 - Neem mij aan zoals ik ben\N2e lezing - Johannes 4: 13-14\NNLB 556: 1,2 en 4 - Alles wat over ons geschreven is\NNLB 816: 1 en 4 - Dat wij onszelf gewonnen geven\NSela - HH502 - In het water van de doop\NLuisterlied J.J. Heller - Hand to hold\NZegenlied - Trinity - Ik wens jou\NKAtern 31 - Mijn zegen krijg je mee\N\N\NInzameling> 1e collecte: werelddiaconaat: Burkina Faso, meer voedsel en inkomen voor boerinnen> 2e collecte: kerk\NU kunt uw gift overmaken naar NL63 RABO 0373 7406 697 of via de optie 'geven' in de GK Ermelo app. \N\NDe diensten zijn te volgen via kerkomroep.nl of YouTube met de link: bit.ly/immanuelkerk
X-ALT-DESC;FMTTYPE=text/html:<p>In deze dienst worden Kees de Rook, zoon van Anne Kuik en Paul de Rook, en Selah Struijs, dochter van Tanja Struijs en Linda Bos gedoopt. De doop is een bijzonder moment voor de ouders en kinderen. Maar ook voor ons als gemeente. In de doop belooft God zijn trouw, en als gemeente worden wij erbij betrokken om samen met de ouders de kinderen te omringen met gebed, geloof en liefde. Daarom vieren we deze vreugdevolle dienst gezamenlijk!</p><hr /><p>Voorganger: ds. Amanda Spies en ds. Jeannet van Doorn<br />Koster: Willemien van Houten<br />Organist/pianist: Wiejan v.d. Akker en Wout van Veen<br />Muzikanten: Anneloes Folkers, Hidde van Dijk, Goos de Jong, Nico van den Hoorn en Johan Lolkema<br />Lector: Reenine Stoute<br />Oppas: Lotte van der Meij en Anneke UIttenbogaard<br />Kindernevendienst: Laura van Barneveld</p><hr /><p>Orde van dienst</p><ul><li>HH 707&nbsp;(Katern 32) - Met open armen</li><li>Evang. LB 382: 1 en 3 - Heer, uw licht en uw liefde schijnen</li><li>Projectlied - Samen op weg naar Pasen</li><li>1e lezing - 1 Koningen 17: 10-16</li><li>N. Liedboek 833 - Neem mij aan zoals ik ben</li><li>2e lezing - Johannes 4: 13-14</li><li>NLB 556: 1,2 en 4 - Alles wat over ons geschreven is</li><li>NLB 816: 1 en 4 - Dat wij onszelf gewonnen geven</li><li>Sela - HH502 - In het water van de doop</li><li>Luisterlied J.J. Heller - Hand to hold</li><li>Zegenlied - Trinity - Ik wens jou</li><li>KAtern 31 - Mijn zegen krijg je mee</li></ul><hr /><p>Inzameling<br />&gt; 1e collecte: werelddiaconaat: Burkina Faso, meer voedsel en inkomen voor boerinnen<br />&gt; 2e collecte: kerk</p><p>U kunt uw gift overmaken naar&nbsp;<strong>NL63 RABO 0373 7406 697</strong>&nbsp;of via de optie 'geven' in de&nbsp;<a href="https://gift.donkeymobile.com/app.donkeymobile.ermelopkngk">GK Ermelo app</a>.&nbsp;</p><hr /><p>De diensten zijn te volgen via <a href="https://www.kerkomroep.nl/#/kerken/10965" target="_self">kerkomroep.nl </a>of YouTube met de link: <a href="https://www.youtube.com/channel/UC0JOaAYpGUgRbMiNMZ13hrA" target="_self">bit.ly/immanuelkerk</a></p>
LAST-MODIFIED:20260321T131029Z
SEQUENCE:26771219
X-ACCESS:2
X-HITS:0
X-COLOR:bd9a0f
X-SHOW-END-TIME:0
END:VEVENT
BEGIN:VEVENT
DTSTART;TZID=Europe/Amsterdam:20260329T100000
DTEND;TZID=Europe/Amsterdam:20260329T110000
UID:2264864A-0A1A-4AAF-A616-88699A935A53
RECURRENCE-ID:20260329T080000Z
SUMMARY:Kerkdienst Immanuelkerk (geen dienst)
CREATED:20250515T164330Z
DTSTAMP:20250515T164330Z
URL:https://mijn.gkermelo.nl/components/com_dpcalendar/agenda/kerkdienst-immanuelkerk-6-1774771200
DESCRIPTION:Er is vandaag een gezamenlijke dienst in de Maranathakerk
X-ALT-DESC;FMTTYPE=text/html:<p>Er is vandaag een gezamenlijke dienst in de Maranathakerk</p>
LAST-MODIFIED:20260306T080952Z
SEQUENCE:25457182
X-ACCESS:2
X-HITS:0
X-COLOR:bd9a0f
X-SHOW-END-TIME:0
END:VEVENT
BEGIN:VEVENT
DTSTART;TZID=Europe/Amsterdam:20260405T100000
DTEND;TZID=Europe/Amsterdam:20260405T110000
UID:2264864A-0A1A-4AAF-A616-88699A935A53
RECURRENCE-ID:20260405T080000Z
SUMMARY:Paasdienst Immanuelkerk 
CREATED:20250515T164330Z
DTSTAMP:20250515T164330Z
URL:https://mijn.gkermelo.nl/components/com_dpcalendar/agenda/kerkdienst-immanuelkerk-6-1775376000
DESCRIPTION:Deze dag vieren we samen het feest van de opstanding, het hart van het christelijk geloof. In het licht van Pasen klinkt het goede nieuws dat het leven sterker is dan de dood, dat hoop het wint van wanhoop en dat er altijd een nieuw begin mogelijk is. Het beeld van de doeken in het lege graf nodigt ons uit om stil te staan bij wat onthuld wordt. Wat eerst verborgen was, komt aan het licht. Wat ons gebonden hield, mag worden losgelaten. In het paasverhaal worden de doeken achtergelaten, als teken dat het leven in Jezus zich niet laat vasthouden, maar zich opent naar een nieuwe werkelijkheid. Door muziek, gebed, stilte en het delen van het paasverhaal zoeken we naar sporen van opstanding in ons eigen bestaan. Van harte welkom om deze feestelijke en hoopvolle dienst mee te vieren.\N\NVoorganger: Ds. J. van DoornKoster: Willemien van HoutenOrganist/pianist: Wiejan van den AkkerMuzikanten: Eva en Hidde van DijkLector: Reenine StouteOppas: Franca van de Kuilen, Mirthe van Barneveld en Annemijn de VriesKindernevendienst: Petra van Harten\N\NOrde van dienst\N\NInzameling> 1e collecte: werelddiaconaat: India> 2e collecte: kerk\NU kunt uw gift overmaken naar NL63 RABO 0373 7406 697 of via de optie 'geven' in de GK Ermelo app. \N\NDe diensten zijn te volgen via kerkomroep.nl of YouTube met de link: bit.ly/immanuelkerk
X-ALT-DESC;FMTTYPE=text/html:<p>Deze dag vieren we samen het feest van de opstanding, het hart van het christelijk geloof. In het licht van Pasen klinkt het goede nieuws dat het leven sterker is dan de dood, dat hoop het wint van wanhoop en dat er altijd een nieuw begin mogelijk is. Het beeld van de doeken in het lege graf nodigt ons uit om stil te staan bij wat onthuld wordt. Wat eerst verborgen was, komt aan het licht. Wat ons gebonden hield, mag worden losgelaten. In het paasverhaal worden de doeken achtergelaten, als teken dat het leven in Jezus zich niet laat vasthouden, maar zich opent naar een nieuwe werkelijkheid. Door muziek, gebed, stilte en het delen van het paasverhaal zoeken we naar sporen van opstanding in ons eigen bestaan. Van harte welkom om deze feestelijke en hoopvolle dienst mee te vieren.</p><hr /><p>Voorganger: Ds. J. van Doorn<br />Koster: Willemien van Houten<br />Organist/pianist: Wiejan van den Akker<br />Muzikanten: Eva en Hidde van Dijk<br />Lector: Reenine Stoute<br />Oppas:&nbsp;Franca van de Kuilen, Mirthe van Barneveld en Annemijn de Vries<br />Kindernevendienst: Petra van Harten</p><hr /><p>Orde van dienst</p><hr /><p>Inzameling<br />&gt; 1e collecte: werelddiaconaat: India<br />&gt; 2e collecte: kerk<br /><br /></p><p>U kunt uw gift overmaken naar&nbsp;<strong>NL63 RABO 0373 7406 697</strong>&nbsp;of via de optie 'geven' in de&nbsp;<a href="https://gift.donkeymobile.com/app.donkeymobile.ermelopkngk">GK Ermelo app</a>.&nbsp;</p><hr /><p>De diensten zijn te volgen via <a href="https://www.kerkomroep.nl/#/kerken/10965" target="_self">kerkomroep.nl </a>of YouTube met de link: <a href="https://www.youtube.com/channel/UC0JOaAYpGUgRbMiNMZ13hrA" target="_self">bit.ly/immanuelkerk</a></p>
LAST-MODIFIED:20260331T205212Z
SEQUENCE:27662922
X-ACCESS:2
X-HITS:0
X-COLOR:bd9a0f
X-SHOW-END-TIME:0
END:VEVENT
BEGIN:VEVENT
DTSTART;TZID=Europe/Amsterdam:20260412T100000
DTEND;TZID=Europe/Amsterdam:20260412T110000
UID:2264864A-0A1A-4AAF-A616-88699A935A53
RECURRENCE-ID:20260412T080000Z
SUMMARY:Kerkdienst Immanuelkerk 
CREATED:20250515T164330Z
DTSTAMP:20250515T164330Z
URL:https://mijn.gkermelo.nl/components/com_dpcalendar/agenda/kerkdienst-immanuelkerk-6-1775980800
DESCRIPTION:Voorganger: ds. Irma Jansen-KleinjanKoster: Frits BoschOrganist/pianist: Gerben BastLector: Reenine StouteOppas: Marloes en Noa MallieKindernevendienst: Anneloes Folkers\N\NOrde van dienst\NThema: Raak mij/Mij aan!\N\NLied 630 vers 1 en 3 – Sta op! Een morgen ongedacht\NLied 695 – Heer, raak mij aan met uw adem\NSchriftlezing: Psalm 139: 1-5 en 13-14\NLied/Psalm 139 vers 7 – Gij hebt mij immers zelf gemaakt\NLucas 24: 36-43, Johannes 20: 24-29 en 1 Johannes 1: 1-3\NLuisterlied (Sela): Raak mijn wonden aan\NEvangelische Liedbundel 205 vers 1 en 4 – Hoe teder heeft de Heer mij aangeraakt\NLied 636 - Liefde is licht, opnieuw geboren\N\N\NInzameling> 1e collecte: diaconie> 2e collecte: kerk\NU kunt uw gift overmaken naar NL63 RABO 0373 7406 697 of via de optie 'geven' in de GK Ermelo app. \N\NDe diensten zijn te volgen via kerkomroep.nl of YouTube met de link: bit.ly/immanuelkerk
X-ALT-DESC;FMTTYPE=text/html:<p>Voorganger: ds. Irma Jansen-Kleinjan<br />Koster: Frits Bosch<br />Organist/pianist: Gerben Bast<br />Lector: Reenine Stoute<br />Oppas: Marloes en Noa Mallie<br />Kindernevendienst: Anneloes Folkers</p><hr /><p>Orde van dienst</p><p>Thema:&nbsp;Raak mij/Mij aan!</p><ul><li>Lied 630 vers 1 en 3 – Sta op! Een morgen ongedacht</li><li>Lied 695 – Heer, raak mij aan met uw adem</li><li>Schriftlezing: Psalm 139: 1-5 en 13-14</li><li>Lied/Psalm 139 vers 7 – Gij hebt mij immers zelf gemaakt</li><li>Lucas 24: 36-43, Johannes 20: 24-29 en 1 Johannes 1: 1-3</li><li>Luisterlied (Sela): Raak mijn wonden aan</li><li>Evangelische Liedbundel 205 vers 1 en 4 – Hoe teder heeft de Heer mij aangeraakt</li><li>Lied 636 - Liefde is licht, opnieuw geboren</li></ul><hr /><p>Inzameling<br />&gt; 1e collecte: diaconie<br />&gt; 2e collecte: kerk</p><p>U kunt uw gift overmaken naar&nbsp;<strong>NL63 RABO 0373 7406 697</strong>&nbsp;of via de optie 'geven' in de&nbsp;<a href="https://gift.donkeymobile.com/app.donkeymobile.ermelopkngk">GK Ermelo app</a>.&nbsp;</p><hr /><p>De diensten zijn te volgen via <a href="https://www.kerkomroep.nl/#/kerken/10965" target="_self">kerkomroep.nl </a>of YouTube met de link: <a href="https://www.youtube.com/channel/UC0JOaAYpGUgRbMiNMZ13hrA" target="_self">bit.ly/immanuelkerk</a></p>
LAST-MODIFIED:20260410T162230Z
SEQUENCE:28510740
X-ACCESS:2
X-HITS:0
X-COLOR:bd9a0f
X-SHOW-END-TIME:0
END:VEVENT
BEGIN:VEVENT
DTSTART;TZID=Europe/Amsterdam:20260419T100000
DTEND;TZID=Europe/Amsterdam:20260419T110000
UID:2264864A-0A1A-4AAF-A616-88699A935A53
RECURRENCE-ID:20260419T080000Z
SUMMARY:Kerkdienst Immanuelkerk 
CREATED:20250515T164330Z
DTSTAMP:20250515T164330Z
URL:https://mijn.gkermelo.nl/components/com_dpcalendar/agenda/kerkdienst-immanuelkerk-6-1776585600
DESCRIPTION:Deze zondag staat de tafel in het midden van onze dienst, als teken dat Christus ons samenbrengt. Aan die tafel vieren we het Heilig Avondmaal: we ontvangen brood en wijn en worden herinnerd aan Zijn genade en onze verbondenheid met elkaar. We komen niet alleen, maar samen. Als gemeente, met jong en oud. De kinderen gaan naar de club en de tieners naar de Jeugdkerk, maar ook zij horen bij deze gemeenschap rond de tafel.  De tafel nodigt ons uit: om te ontvangen, te delen en als vernieuwde mensen weer op weg te gaan.\N\NVoorganger: ds. Jeannet van DoornKoster: Albert VeenstraOrganist/pianist: Wout van VeenMuzikanten: Anne Koster en Nico van den HoornLector: Menno KuilmanOppas: Marlies Kwant en Emma VeeningenClub op zondag en jeugdkerk \N\NOrde van dienst\N\NLied 218 Dank u voor deze nieuwe morgen\NLied: Onder boven voor en achter, God is altijd bij mij\NHandelingen 27:33-38\NLied 27a De Heer is mijn Licht \NLied 801:1, 2,4,7 Door de nacht van strijd en zorgen\NLied 385 De tafel van samen  \NLied 425 Vervuld van uw zegen\N\N\NInzameling> 1e collecte: werelddiaconaat> 2e collecte: kerk\NU kunt uw gift overmaken naar NL63 RABO 0373 7406 697 of via de optie 'geven' in de GK Ermelo app. \N\NDe diensten zijn te volgen via kerkomroep.nl of YouTube met de link: bit.ly/immanuelkerk
X-ALT-DESC;FMTTYPE=text/html:<p>Deze zondag staat de tafel in het midden van onze dienst, als teken dat Christus ons samenbrengt. Aan die tafel vieren we het Heilig Avondmaal: we ontvangen brood en wijn en worden herinnerd aan Zijn genade en onze verbondenheid met elkaar. We komen niet alleen, maar samen. Als gemeente, met jong en oud. De kinderen gaan naar de club en de tieners naar de Jeugdkerk, maar ook zij horen bij deze gemeenschap rond de tafel.&nbsp;&nbsp;De tafel nodigt ons uit: om te ontvangen, te delen en als vernieuwde mensen weer op weg te gaan.</p><hr /><p>Voorganger: ds. Jeannet van Doorn<br />Koster: Albert Veenstra<br />Organist/pianist: Wout van Veen<br />Muzikanten: Anne Koster en Nico van den Hoorn<br />Lector: Menno Kuilman<br />Oppas: Marlies Kwant en Emma Veeningen<br />Club op zondag en jeugdkerk&nbsp;</p><hr /><p>Orde van dienst</p><ul><li>Lied 218 Dank u voor deze nieuwe morgen</li><li>Lied: Onder boven voor en achter, God is altijd bij mij</li><li>Handelingen 27:33-38</li><li>Lied 27a De Heer is mijn Licht&nbsp;</li><li>Lied 801:1, 2,4,7 Door de nacht van strijd en zorgen</li><li>Lied 385 De tafel van samen&nbsp;&nbsp;</li><li>Lied 425 Vervuld van uw zegen</li></ul><hr /><p>Inzameling<br />&gt; 1e collecte: werelddiaconaat<br />&gt; 2e collecte: kerk<br /><br /></p><p>U kunt uw gift overmaken naar&nbsp;<strong>NL63 RABO 0373 7406 697</strong>&nbsp;of via de optie 'geven' in de&nbsp;<a href="https://gift.donkeymobile.com/app.donkeymobile.ermelopkngk">GK Ermelo app</a>.&nbsp;</p><hr /><p>De diensten zijn te volgen via <a href="https://www.kerkomroep.nl/#/kerken/10965" target="_self">kerkomroep.nl </a>of YouTube met de link: <a href="https://www.youtube.com/channel/UC0JOaAYpGUgRbMiNMZ13hrA" target="_self">bit.ly/immanuelkerk</a></p>
LAST-MODIFIED:20260419T074846Z
SEQUENCE:29257516
X-ACCESS:2
X-HITS:0
X-COLOR:bd9a0f
X-SHOW-END-TIME:0
END:VEVENT
BEGIN:VEVENT
DTSTART;TZID=Europe/Amsterdam:20260426T100000
DTEND;TZID=Europe/Amsterdam:20260426T110000
UID:2264864A-0A1A-4AAF-A616-88699A935A53
RECURRENCE-ID:20260426T080000Z
SUMMARY:Kerkdienst Immanuelkerk 
CREATED:20250515T164330Z
DTSTAMP:20250515T164330Z
URL:https://mijn.gkermelo.nl/components/com_dpcalendar/agenda/kerkdienst-immanuelkerk-6-1777190400
DESCRIPTION:In een wereld die vaak druk, intens en soms hard is, rennen we gemakkelijk voorbij aan wat goed is. We zijn bezig, gaan door, en vergeten stil te staan bij wat ons gegeven wordt. Juist daarom is het zo belangrijk om momenten te hebben waarin we even stoppen. De kerk wil zo’n plek zijn. Een plek waar niets hoeft, waar we los mogen komen van alles wat moet en waar ruimte is om opnieuw te ontdekken waar we dankbaar voor zijn. Want in die dankbaarheid ligt ook vreugde, soms klein en kwetsbaar, maar waardevol en krachtgevend. In deze dienst nemen we daar bewust de tijd voor: om stil te staan, om te zien wat goed is, en om die vreugde weer ruimte te geven in ons leven.\N\NVoorganger: ds. Jeannet van DoornKoster: Sybolt JousmaOrganist/pianist: Ans KuusLector: Arno KosterOppas: Marjan Bontan en Felin BrandsenKindernevendienst: Linda de Vries\N\NOrde van dienst\N\NInzameling> 1e collecte: missionair werk - kliederkerk> 2e collecte: kerk\NU kunt uw gift overmaken naar NL63 RABO 0373 7406 697 of via de optie 'geven' in de GK Ermelo app. \N\NDe diensten zijn te volgen via kerkomroep.nl of YouTube met de link: bit.ly/immanuelkerk
X-ALT-DESC;FMTTYPE=text/html:<p>In een wereld die vaak druk, intens en soms hard is, rennen we gemakkelijk voorbij aan wat goed is. We zijn bezig, gaan door, en vergeten stil te staan bij wat ons gegeven wordt. Juist daarom is het zo belangrijk om momenten te hebben waarin we even stoppen. De kerk wil zo’n plek zijn. Een plek waar niets hoeft, waar we los mogen komen van alles wat moet en waar ruimte is om opnieuw te ontdekken waar we dankbaar voor zijn. Want in die dankbaarheid ligt ook vreugde, soms klein en kwetsbaar, maar waardevol en krachtgevend. In deze dienst nemen we daar bewust de tijd voor: om stil te staan, om te zien wat goed is, en om die vreugde weer ruimte te geven in ons leven.</p><hr /><p>Voorganger: ds. Jeannet van Doorn<br />Koster: Sybolt Jousma<br />Organist/pianist: Ans Kuus<br />Lector: Arno Koster<br />Oppas: Marjan Bontan en Felin Brandsen<br />Kindernevendienst: Linda de Vries</p><hr /><p>Orde van dienst</p><hr /><p>Inzameling<br />&gt; 1e collecte: missionair werk - kliederkerk<br />&gt; 2e collecte: kerk<br /><br /></p><p>U kunt uw gift overmaken naar&nbsp;<strong>NL63 RABO 0373 7406 697</strong>&nbsp;of via de optie 'geven' in de&nbsp;<a href="https://gift.donkeymobile.com/app.donkeymobile.ermelopkngk">GK Ermelo app</a>.&nbsp;</p><hr /><p>De diensten zijn te volgen via <a href="https://www.kerkomroep.nl/#/kerken/10965" target="_self">kerkomroep.nl </a>of YouTube met de link: <a href="https://www.youtube.com/channel/UC0JOaAYpGUgRbMiNMZ13hrA" target="_self">bit.ly/immanuelkerk</a></p>
LAST-MODIFIED:20260417T172724Z
SEQUENCE:29119434
X-ACCESS:2
X-HITS:0
X-COLOR:bd9a0f
X-SHOW-END-TIME:0
END:VEVENT
END:VCALENDAR