BEGIN:VCALENDAR
BEGIN:VEVENT
DTSTART;TZID=Europe/Amsterdam:20260308T100000
DTEND;TZID=Europe/Amsterdam:20260308T110000
RRULE:FREQ=WEEKLY;INTERVAL=1;UNTIL=20261231T235900Z
UID:428D6226-E7E7-451A-B7D0-4A6BF69EF902
SUMMARY:Kerkdienst Maranathakerk 
CREATED:20250515T164451Z
DTSTAMP:20250515T164451Z
URL:https://mijn.gkermelo.nl/components/com_dpcalendar/agenda/kerkdienst-maranathakerk-7
DESCRIPTION:Met het oog op \N\NVoorganger: Koster:Organist/pianist:Muzikanten:Lector:Oppas:Kindernevendienst:\N\NOrde van dienst\N\NInzameling> 1e collecte:> 2e collecte: kerk\NU kunt uw gift overmaken naar NL63 RABO 0373 7406 697 of via de optie 'geven' in de GK Ermelo app. \N\NDe diensten zijn te volgen via kerkomroep.nl of YouTube met de link: bit.ly/maranathakerk
X-ALT-DESC;FMTTYPE=text/html:<p>Met het oog op&nbsp;</p><hr /><p>Voorganger:&nbsp;<br />Koster:<br />Organist/pianist:<br />Muzikanten:<br />Lector:<br />Oppas:<br />Kindernevendienst:</p><hr /><p>Orde van dienst</p><hr /><p>Inzameling<br />&gt; 1e collecte:<br />&gt; 2e collecte: kerk</p><p>U kunt uw gift overmaken naar&nbsp;<strong>NL63 RABO 0373 7406 697</strong>&nbsp;of via de optie 'geven' in de&nbsp;<a href="https://gift.donkeymobile.com/app.donkeymobile.ermelopkngk">GK Ermelo app</a>.&nbsp;</p><hr /><p>De diensten zijn te volgen via <a href="https://www.kerkomroep.nl/#/kerken/10966" target="_self">kerkomroep.nl </a>of YouTube met de link: <a href="https://www.youtube.com/channel/UCCF1xJhFOz-ceiPvSW49rrQ" target="_self">bit.ly/maranathakerk</a></p>
LAST-MODIFIED:20260306T075343Z
SEQUENCE:25456132
X-ACCESS:2
X-HITS:0
X-COLOR:cc6d00
X-SHOW-END-TIME:0
END:VEVENT
BEGIN:VEVENT
DTSTART;TZID=Europe/Amsterdam:20260308T100000
DTEND;TZID=Europe/Amsterdam:20260308T110000
UID:428D6226-E7E7-451A-B7D0-4A6BF69EF902
RECURRENCE-ID:20260308T090000Z
SUMMARY:Kerkdienst Maranathakerk 
CREATED:20250515T164451Z
DTSTAMP:20250515T164451Z
URL:https://mijn.gkermelo.nl/components/com_dpcalendar/agenda/kerkdienst-maranathakerk-7-1772960400
DESCRIPTION:Voorganger: ds. Jeannet van DoornKoster: Bertjan JousmaOrganist/pianist: Bart WillemsenMuzikanten: Amanda Spies en Alike MaarseLector: Femmy MarinusOppas: Naomi van Houten en Merel WoltersKindernevendienst: Anne van de Krol\N\NOrde van dienst\N\NKatern 32: Met open armen\NNLB 845 Tijd van vloek en tijd van zegen\NNLB 858 Vernieuw in ons O God\NProjectlied\NLucas 22:14-20 & Johannes 15:1-5\NOude Liedboek gezang 78: 1,2,4 Laat m’in U blijven groeien bloeien\NNLB 386: Vier met alles wat in je is\NKatern 10 Eat this bread \NKatern 12 Ubi Caritas \NNLB 423 Nu wij uiteengaan vragen wij God\N\N\NInzameling> 1e collecte: werelddiaconaat: Egypte> 2e collecte: kerk\NU kunt uw gift overmaken naar NL63 RABO 0373 7406 697 of via de optie 'geven' in de GK Ermelo app. \N\NDe diensten zijn te volgen via kerkomroep.nl of YouTube met de link: bit.ly/maranathakerk
X-ALT-DESC;FMTTYPE=text/html:<p>Voorganger: ds. Jeannet van Doorn<br />Koster:&nbsp;Bertjan Jousma<br />Organist/pianist:&nbsp;Bart Willemsen<br />Muzikanten:&nbsp;Amanda Spies en Alike Maarse<br />Lector:&nbsp;Femmy Marinus<br />Oppas:&nbsp;Naomi van Houten en Merel Wolters<br />Kindernevendienst:&nbsp;Anne van de Krol</p><hr /><p>Orde van dienst</p><ul><li>Katern 32: Met open armen</li><li>NLB 845 Tijd van vloek en tijd van zegen</li><li>NLB 858 Vernieuw in ons O God</li><li>Projectlied</li><li>Lucas 22:14-20 &amp; Johannes 15:1-5</li><li>Oude Liedboek gezang 78: 1,2,4 Laat m’in U blijven groeien bloeien</li><li>NLB 386: Vier met alles wat in je is</li><li>Katern 10 Eat this bread&nbsp;</li><li>Katern 12 Ubi Caritas&nbsp;</li><li>NLB 423 Nu wij uiteengaan vragen wij God</li></ul><hr /><p>Inzameling<br />&gt; 1e collecte: werelddiaconaat: Egypte<br />&gt; 2e collecte: kerk</p><p>U kunt uw gift overmaken naar&nbsp;<strong>NL63 RABO 0373 7406 697</strong>&nbsp;of via de optie 'geven' in de&nbsp;<a href="https://gift.donkeymobile.com/app.donkeymobile.ermelopkngk">GK Ermelo app</a>.&nbsp;</p><hr /><p>De diensten zijn te volgen via <a href="https://www.kerkomroep.nl/#/kerken/10966" target="_self">kerkomroep.nl </a>of YouTube met de link: <a href="https://www.youtube.com/channel/UCCF1xJhFOz-ceiPvSW49rrQ" target="_self">bit.ly/maranathakerk</a></p>
LAST-MODIFIED:20260306T075624Z
SEQUENCE:25456293
X-ACCESS:2
X-HITS:0
X-COLOR:cc6d00
X-SHOW-END-TIME:0
END:VEVENT
BEGIN:VEVENT
DTSTART;TZID=Europe/Amsterdam:20260315T100000
DTEND;TZID=Europe/Amsterdam:20260315T110000
UID:428D6226-E7E7-451A-B7D0-4A6BF69EF902
RECURRENCE-ID:20260315T090000Z
SUMMARY:Kerkdienst Maranathakerk 
CREATED:20250515T164451Z
DTSTAMP:20250515T164451Z
URL:https://mijn.gkermelo.nl/components/com_dpcalendar/agenda/kerkdienst-maranathakerk-7-1773565200
DESCRIPTION:Voorganger: ds. Jeannet van DoornKoster: Remco VerschoorOrganist: Ans Kuus:Lector: Angela BronsOppas: Annemiek Vliek en Jozien DonkKindernevendienst: Rachel van Winkoop\N\N\NLied 283: 1,2 In de veelheid van geluiden\NLied 283: 4 en 5\NKatern lied 5 Kyrie\NProjectlied ‘Samen op weg naar Pasen’ \NLied/Psalm 25a: 1 en 2 Mijn ogen zijn gevestigd\NMarcus 14:32-42\NLied:  Taize Blijf bij mij en waak hier met Mij\NKatern 8 Onze Vader Katern \NKatern lied 15 God zal met je meegaan\N\N\NInzameling> 1e collecte: werelddiaconaat: Moldavië> 2e collecte: kerk\NU kunt uw gift overmaken naar NL63 RABO 0373 7406 697 of via de optie 'geven' in de GK Ermelo app. \N\NDe diensten zijn te volgen via kerkomroep.nl of YouTube met de link: bit.ly/maranathakerk
X-ALT-DESC;FMTTYPE=text/html:<p>Voorganger:&nbsp;ds. Jeannet van Doorn<br />Koster:&nbsp;Remco Verschoor<br />Organist:&nbsp;Ans Kuus:<br />Lector:&nbsp;Angela Brons<br />Oppas:&nbsp;Annemiek Vliek en Jozien Donk<br />Kindernevendienst:&nbsp;Rachel van Winkoop</p><hr /><ul><li>Lied 283: 1,2 In de veelheid van geluiden</li><li>Lied 283: 4 en 5</li><li>Katern lied 5 Kyrie</li><li>Projectlied ‘Samen op weg naar Pasen’&nbsp;</li><li>Lied/Psalm 25a: 1 en 2 Mijn ogen zijn gevestigd</li><li>Marcus 14:32-42</li><li>Lied:&nbsp;&nbsp;Taize Blijf bij mij en waak hier met Mij</li><li>Katern 8 Onze Vader Katern&nbsp;</li><li>Katern lied 15 God zal met je meegaan</li></ul><hr /><p>Inzameling<br />&gt; 1e collecte: werelddiaconaat: Moldavië<br />&gt; 2e collecte: kerk</p><p>U kunt uw gift overmaken naar&nbsp;<strong>NL63 RABO 0373 7406 697</strong>&nbsp;of via de optie 'geven' in de&nbsp;<a href="https://gift.donkeymobile.com/app.donkeymobile.ermelopkngk">GK Ermelo app</a>.&nbsp;</p><hr /><p>De diensten zijn te volgen via <a href="https://www.kerkomroep.nl/#/kerken/10966" target="_self">kerkomroep.nl </a>of YouTube met de link: <a href="https://www.youtube.com/channel/UCCF1xJhFOz-ceiPvSW49rrQ" target="_self">bit.ly/maranathakerk</a></p>
LAST-MODIFIED:20260313T164437Z
SEQUENCE:26092786
X-ACCESS:2
X-HITS:0
X-COLOR:cc6d00
X-SHOW-END-TIME:0
END:VEVENT
BEGIN:VEVENT
DTSTART;TZID=Europe/Amsterdam:20260322T100000
DTEND;TZID=Europe/Amsterdam:20260322T110000
UID:428D6226-E7E7-451A-B7D0-4A6BF69EF902
RECURRENCE-ID:20260322T090000Z
SUMMARY:Kerkdienst Maranathakerk (geen dienst)
CREATED:20250515T164451Z
DTSTAMP:20250515T164451Z
URL:https://mijn.gkermelo.nl/components/com_dpcalendar/agenda/kerkdienst-maranathakerk-7-1774170000
DESCRIPTION:Er is vandaag een gezamenlijke dienst in de Immanuelkerk
X-ALT-DESC;FMTTYPE=text/html:<p>Er is vandaag een gezamenlijke dienst in de Immanuelkerk</p>
LAST-MODIFIED:20260306T080811Z
SEQUENCE:25457000
X-ACCESS:2
X-HITS:0
X-COLOR:cc6d00
X-SHOW-END-TIME:0
END:VEVENT
BEGIN:VEVENT
DTSTART;TZID=Europe/Amsterdam:20260329T100000
DTEND;TZID=Europe/Amsterdam:20260329T110000
UID:428D6226-E7E7-451A-B7D0-4A6BF69EF902
RECURRENCE-ID:20260329T080000Z
SUMMARY:Kerkdienst Maranathakerk 
CREATED:20250515T164451Z
DTSTAMP:20250515T164451Z
URL:https://mijn.gkermelo.nl/components/com_dpcalendar/agenda/kerkdienst-maranathakerk-7-1774771200
DESCRIPTION:We sluiten weer aan bij het project van de kindernevendienst: 'Locatie Jeruzalem.' We lezen over Jezus die, ook als hij onschuldig is, door Pilatus wordt veroordeeld. Pilatus spreekt de woorden; 'Wat is waarheid?' We lezen enekelijk gedeelten uit Johannes 18:28 - 19:16. In onze tijd waarin het woord 'waarheid' van alle kanten wordt bedreigd, gaan wij dieper in op de betekenis van deze woorden van Pilatus voor ons leven. De kinderen zullen tijdens de kindernevendienst Palmpasentakken maken en er zal een vrolijke optocht door de kerk gaan. De viering is extra feestelijk omdat koor Voice uit Zeewolde haar medewerking aan de dienst verleent. \N\NVoorganger: ds. Jan-Willem LeurgansKoster: Theo Meijer en Albert VeenstraOrganist/pianist: Wout van VeenMuzikanten: koor Voice uit ZeewoldeLector: Bastian de VosOppas: Anne van der Weide en Marjan BontanKindernevendienst: Arda Kwant\N\NOrde van dienst\N\NZingen: Psalm 24: 1,5 De aarde en haar volheid zijn\NProjectlied Samen op weg naar Pasen\NJohannes 12: 12-19\NLied 550: 1,3 Verheug u gij dochter van Sion\NJohannes 18: 28 – 19: 1, Johannes 19: 14-16a \NLied: Stand my ground\NLied 578 O kostbaar kruis\NMededelingen\NLied 1006 Onze Vader\NLied 552 Dit is een dag van zingen\N\N\NInzameling> 1e collecte: diaconie: Missionair werk - Pasen al missionaire kans> 2e collecte: kerk\NU kunt uw gift overmaken naar NL63 RABO 0373 7406 697 of via de optie 'geven' in de GK Ermelo app. \N\NDe diensten zijn te volgen via kerkomroep.nl of YouTube met de link: bit.ly/maranathakerk
X-ALT-DESC;FMTTYPE=text/html:<p>We sluiten weer aan bij het project van de kindernevendienst: 'Locatie Jeruzalem.' We lezen over Jezus die, ook als hij onschuldig is, door Pilatus wordt veroordeeld. Pilatus spreekt de woorden; 'Wat is waarheid?' We lezen enekelijk gedeelten uit Johannes 18:28 - 19:16. In onze tijd waarin het woord 'waarheid' van alle kanten wordt bedreigd, gaan wij dieper in op de betekenis van deze woorden van Pilatus voor ons leven. De kinderen zullen tijdens de kindernevendienst Palmpasentakken maken en er zal een vrolijke optocht door de kerk gaan. De viering is extra feestelijk omdat koor Voice uit Zeewolde haar medewerking aan de dienst verleent.&nbsp;</p><hr /><p>Voorganger: ds. Jan-Willem Leurgans<br />Koster: Theo Meijer en Albert Veenstra<br />Organist/pianist: Wout van Veen<br />Muzikanten: koor Voice uit Zeewolde<br />Lector: Bastian de Vos<br />Oppas: Anne van der Weide en Marjan Bontan<br />Kindernevendienst: Arda Kwant</p><hr /><p>Orde van dienst</p><ul><li>Zingen: Psalm 24: 1,5 De aarde en haar volheid zijn</li><li>Projectlied Samen op weg naar Pasen</li><li>Johannes 12: 12-19</li><li>Lied 550: 1,3 Verheug u gij dochter van Sion</li><li>Johannes 18: 28 – 19: 1, Johannes 19: 14-16a&nbsp;</li><li>Lied: Stand my ground</li><li>Lied 578 O kostbaar kruis</li><li>Mededelingen</li><li>Lied 1006 Onze Vader</li><li>Lied 552 Dit is een dag van zingen</li></ul><hr /><p>Inzameling<br />&gt; 1e collecte: diaconie: Missionair werk - Pasen al missionaire kans<br />&gt; 2e collecte: kerk</p><p>U kunt uw gift overmaken naar&nbsp;<strong>NL63 RABO 0373 7406 697</strong>&nbsp;of via de optie 'geven' in de&nbsp;<a href="https://gift.donkeymobile.com/app.donkeymobile.ermelopkngk">GK Ermelo app</a>.&nbsp;</p><hr /><p>De diensten zijn te volgen via <a href="https://www.kerkomroep.nl/#/kerken/10966" target="_self">kerkomroep.nl </a>of YouTube met de link: <a href="https://www.youtube.com/channel/UCCF1xJhFOz-ceiPvSW49rrQ" target="_self">bit.ly/maranathakerk</a></p>
LAST-MODIFIED:20260325T203235Z
SEQUENCE:27143264
X-ACCESS:2
X-HITS:0
X-COLOR:cc6d00
X-SHOW-END-TIME:0
END:VEVENT
BEGIN:VEVENT
DTSTART;TZID=Europe/Amsterdam:20260405T100000
DTEND;TZID=Europe/Amsterdam:20260405T110000
UID:428D6226-E7E7-451A-B7D0-4A6BF69EF902
RECURRENCE-ID:20260405T080000Z
SUMMARY:Paasdienst Maranathakerk 
CREATED:20250515T164451Z
DTSTAMP:20250515T164451Z
URL:https://mijn.gkermelo.nl/components/com_dpcalendar/agenda/kerkdienst-maranathakerk-7-1775376000
DESCRIPTION:Op paasmorgen is het groot feest: we vieren Jezus’ opstanding uit de dood. We lezen het paasevangelie uit Johannes. Het paasverhaal begint chaotisch met allerlei mensen die langs elkaar heen lopen op weg naar het graf waar Jezus begraven is. Er is sprake van grote paniek. Pasen begint niet met vreugde, maar met de vraag: “Waar is Hij toch?” Toch klinkt midden in de chaos het bevrijdende woord dat tot op de dag van vandaag nog naklinkt: ‘Ik heb de Heer gezien.’\NMet elkaar vieren we het blijde feest van Pasen.\NUiteraard is er prachtige muziek. Reden genoeg om feest te vieren.\NVan harte welkom!\N\NVoorganger: Ds. Jan Willem LeurgansKoster: Ate KleinOrganist/pianist: Bart WillemsenMuzikanten: Nanette Versteeg en Willeke van SantenLector: Winy BregtOppas: Marlies Kwant en Nena DuijmelinksKindernevendienst: Arda Kwant\N\NOrde van dienst\N\NLied voor de dienst: Lied 624 Christus, onze Heer verrees\NOude liedboek 221 Wees gegroet, gij eersteling der dagen\NLied/ Psalm 118: 1,8 Laat ieder ’s Heren goedheid prijzen\NNader tot Jou 186  wij staan op in een stralende morgen \NProjectlied Samen op weg naar Pasen\NKinderlied: Weet je dat de lente komt \NGenesis 1: 1-5\NZingen: Lied 630: 1 Sta op. Een morgen ongedacht\NJohannes 20: 1-18\NHemelhoog 169 Daar juicht een toon\NLied 608 De steppe zal bloeien \NELB 132 U zij de glorie \Nkatern lied 15 God zal met je meegaan\N\N\NInzameling> 1e collecte: werelddiaconaat: India> 2e collecte: kerk\NU kunt uw gift overmaken naar NL63 RABO 0373 7406 697 of via de optie 'geven' in de GK Ermelo app. \N\NDe diensten zijn te volgen via kerkomroep.nl of YouTube met de link: bit.ly/maranathakerk
X-ALT-DESC;FMTTYPE=text/html:<p>Op paasmorgen is het groot feest: we vieren Jezus’ opstanding uit de dood. We lezen het paasevangelie uit Johannes. Het paasverhaal begint chaotisch met allerlei mensen die langs elkaar heen lopen op weg naar het graf waar Jezus begraven is. Er is sprake van grote paniek. Pasen begint niet met vreugde, maar met de vraag: “Waar is Hij toch?” Toch klinkt midden in de chaos het bevrijdende woord dat tot op de dag van vandaag nog naklinkt: ‘Ik heb de Heer gezien.’</p><p>Met elkaar vieren we het blijde feest van Pasen.</p><p>Uiteraard is er prachtige muziek.&nbsp;Reden genoeg om feest te vieren.</p><p>Van harte welkom!</p><hr /><p>Voorganger: Ds. Jan Willem Leurgans<br />Koster: Ate Klein<br />Organist/pianist: Bart Willemsen<br />Muzikanten: Nanette Versteeg en Willeke van Santen<br />Lector: Winy Bregt<br />Oppas: Marlies Kwant en Nena Duijmelinks<br />Kindernevendienst: Arda Kwant</p><hr /><p>Orde van dienst</p><ul><li>Lied voor de dienst: Lied 624 Christus, onze Heer verrees</li><li>Oude liedboek 221 Wees gegroet, gij eersteling der dagen</li><li>Lied/ Psalm 118: 1,8 Laat ieder ’s Heren goedheid prijzen</li><li>Nader tot Jou 186&nbsp;&nbsp;wij staan op in een stralende morgen&nbsp;</li><li>Projectlied Samen op weg naar Pasen</li><li>Kinderlied: Weet je dat de lente komt&nbsp;</li><li>Genesis 1: 1-5</li><li>Zingen: Lied 630: 1 Sta op. Een morgen ongedacht</li><li>Johannes 20: 1-18</li><li>Hemelhoog 169 Daar juicht een toon</li><li>Lied 608 De steppe zal bloeien&nbsp;</li><li>ELB 132 U zij de glorie&nbsp;</li><li>katern lied 15 God zal met je meegaan</li></ul><hr /><p>Inzameling<br />&gt; 1e collecte: werelddiaconaat: India<br />&gt; 2e collecte: kerk</p><p>U kunt uw gift overmaken naar&nbsp;<strong>NL63 RABO 0373 7406 697</strong>&nbsp;of via de optie 'geven' in de&nbsp;<a href="https://gift.donkeymobile.com/app.donkeymobile.ermelopkngk">GK Ermelo app</a>.&nbsp;</p><hr /><p>De diensten zijn te volgen via <a href="https://www.kerkomroep.nl/#/kerken/10966" target="_self">kerkomroep.nl </a>of YouTube met de link: <a href="https://www.youtube.com/channel/UCCF1xJhFOz-ceiPvSW49rrQ" target="_self">bit.ly/maranathakerk</a></p>
LAST-MODIFIED:20260403T090547Z
SEQUENCE:27879656
X-ACCESS:2
X-HITS:0
X-COLOR:cc6d00
X-SHOW-END-TIME:0
END:VEVENT
BEGIN:VEVENT
DTSTART;TZID=Europe/Amsterdam:20260412T100000
DTEND;TZID=Europe/Amsterdam:20260412T110000
UID:428D6226-E7E7-451A-B7D0-4A6BF69EF902
RECURRENCE-ID:20260412T080000Z
SUMMARY:Kerkdienst Maranathakerk 
CREATED:20250515T164451Z
DTSTAMP:20250515T164451Z
URL:https://mijn.gkermelo.nl/components/com_dpcalendar/agenda/kerkdienst-maranathakerk-7-1775980800
DESCRIPTION:Soms dragen wij de littekens van wat ons eerder is overkomen aan pijn, verdriet of andere nare situaties. Jezus verschijnt na zijn verrijzenis aan zijn leerlingen. De opgestane Heer is tegelijkertijd ook een zichtbaar verwond iemand met littekens. Thomas is degene die het meer dan anderen nodig heeft om dat zelf waar te nemen. Pas dan gelooft hij dat de man die zijn medeleerlingen zagen verschijnen, daadwerkelijk Jezus is. Wat betekent het voor ons, dat de opgestane Jezus tegelijkertijd ook de blijvend gewonde Jezus is? \NWe lezen Psalm 22 en Johannes 20: 19 t/m 23. ‘Littekens’: is het thema van deze dienst. \N\NVoorganger: ds. Sjaak Teuwissen (Protestantse Gemeente Heerjansdam/Kijfhoek) Koster: Bertjan JousmaOrganist/pianist: Wiejan van den AkkerLector: Aletta van MeerOppas: Naomi van Houten en Merel WoltersKindernevendienst: Anne van de Krol\N\NOrde van dienst\N\NLied/Psalm 22: 1 Mijn God, mijn God waarom verlaat Gij mij\NLied/Psalm 22: 3 \NLied/Psalm 22: 11 \NKatern 28: Heer U bent mijn leven, de grond waarop ik sta\NHemelhoog 207: Weet je dat de lente komt \NLezing: Psalm 22: 2-16\NLied 644: 1, 2 en 5 terwijl wij Hem bewenen\NJohannes 20: 19 t/m 31 \NLuisterlied: raak de wonden aan\NLied 861 Hoe kan ik verder leven \NKatern 8 Onze Vader \NEv.lb. 79: 1, 2 en 3  ‘vrede zij u’\NEv.lb 79: 4\N\N\NInzameling> 1e collecte: diaconie> 2e collecte: kerk\NU kunt uw gift overmaken naar NL63 RABO 0373 7406 697 of via de optie 'geven' in de GK Ermelo app. \N\NDe diensten zijn te volgen via kerkomroep.nl of YouTube met de link: bit.ly/maranathakerk
X-ALT-DESC;FMTTYPE=text/html:<p>Soms dragen wij de littekens van wat ons eerder is overkomen aan pijn, verdriet of andere nare situaties. Jezus verschijnt na zijn verrijzenis aan zijn leerlingen. De opgestane Heer is tegelijkertijd ook een zichtbaar verwond iemand met littekens. Thomas is degene die het meer dan anderen nodig heeft om dat zelf waar te nemen. Pas dan gelooft hij dat de man die zijn medeleerlingen zagen verschijnen, daadwerkelijk Jezus is. Wat betekent het voor ons, dat de opgestane Jezus tegelijkertijd ook de blijvend gewonde Jezus is?&nbsp;</p><p>We lezen Psalm 22 en Johannes 20: 19 t/m 23.&nbsp;‘Littekens’:&nbsp;is het thema van deze dienst.&nbsp;</p><hr /><p>Voorganger: ds. Sjaak Teuwissen&nbsp;(Protestantse Gemeente Heerjansdam/Kijfhoek)&nbsp;<br />Koster: Bertjan Jousma<br />Organist/pianist: Wiejan van den Akker<br />Lector: Aletta van Meer<br />Oppas: Naomi van Houten en Merel Wolters<br />Kindernevendienst: Anne van de Krol</p><hr /><p>Orde van dienst</p><ul><li>Lied/Psalm 22: 1 Mijn God, mijn God waarom verlaat Gij mij</li><li>Lied/Psalm 22: 3&nbsp;</li><li>Lied/Psalm 22: 11&nbsp;</li><li>Katern 28:&nbsp;Heer U bent mijn leven, de grond waarop ik sta</li><li>Hemelhoog 207: Weet je dat de lente komt&nbsp;</li><li>Lezing: Psalm 22: 2-16</li><li>Lied 644: 1, 2 en 5 terwijl wij Hem bewenen</li><li>Johannes 20: 19 t/m 31&nbsp;</li><li>Luisterlied: raak de wonden aan</li><li>Lied 861 Hoe kan ik verder leven&nbsp;</li><li>Katern 8 Onze Vader&nbsp;</li><li>Ev.lb. 79: 1, 2 en 3&nbsp;&nbsp;‘vrede zij u’</li><li>Ev.lb 79: 4</li></ul><hr /><p>Inzameling<br />&gt; 1e collecte: diaconie<br />&gt; 2e collecte: kerk</p><p>U kunt uw gift overmaken naar&nbsp;<strong>NL63 RABO 0373 7406 697</strong>&nbsp;of via de optie 'geven' in de&nbsp;<a href="https://gift.donkeymobile.com/app.donkeymobile.ermelopkngk">GK Ermelo app</a>.&nbsp;</p><hr /><p>De diensten zijn te volgen via <a href="https://www.kerkomroep.nl/#/kerken/10966" target="_self">kerkomroep.nl </a>of YouTube met de link: <a href="https://www.youtube.com/channel/UCCF1xJhFOz-ceiPvSW49rrQ" target="_self">bit.ly/maranathakerk</a></p>
LAST-MODIFIED:20260407T170202Z
SEQUENCE:28253831
X-ACCESS:2
X-HITS:0
X-COLOR:cc6d00
X-SHOW-END-TIME:0
END:VEVENT
BEGIN:VEVENT
DTSTART;TZID=Europe/Amsterdam:20260419T100000
DTEND;TZID=Europe/Amsterdam:20260419T110000
UID:428D6226-E7E7-451A-B7D0-4A6BF69EF902
RECURRENCE-ID:20260419T080000Z
SUMMARY:Kerkdienst Maranathakerk 
CREATED:20250515T164451Z
DTSTAMP:20250515T164451Z
URL:https://mijn.gkermelo.nl/components/com_dpcalendar/agenda/kerkdienst-maranathakerk-7-1776585600
DESCRIPTION:Komende zondag sluiten we aan bij het rooster van de kindernevendienst. Genesis 3 staat centraal, ook wel bekend als het verhaal van de ‘zondeval.‘ Naast Genesis 3: 1-14 lezen we Handelingen 5: 1-11, over Ananias en Safira. Wat blijkt is dat het verhaal van de ‘zondeval‘ niet alleen iets van toen is, maar vooral ook van nu. We gaan met elkaar op zoek naar de relevantie van deze verhalen op deze zondag twee weken na Pasen.\NHeel welkom!\N\NVoorganger: ds. Jan-Willem LeurgansKoster: Remco VerschoorOrganist/pianist: Bart WillemsenLector: Angela BronsOppas: Annemiek Vliek En Sanne VeeningenKindernevendienst: Rachel van Winkoop\N\NOrde van dienst\N\NLied/ Psalm 116: 1,3,5 God heb ik lief\NLied: U zij de glorie\NGenesis 3: 1-14\NLied 944: 1,3 O Heer, verberg U niet voor mij\NHandelingen 5: 1-11\NKatern 11 Jezus U bent het licht in ons leven\NHemelhoog 460A: Ik zal er zijn \NELB 235: 1,2,3  Neem Heer mijn beide handen\N\N\NInzameling> 1e collecte: werelddiaconaat> 2e collecte: kerk\NU kunt uw gift overmaken naar NL63 RABO 0373 7406 697 of via de optie 'geven' in de GK Ermelo app. \N\NDe diensten zijn te volgen via kerkomroep.nl of YouTube met de link: bit.ly/maranathakerk
X-ALT-DESC;FMTTYPE=text/html:<p>Komende zondag sluiten we aan bij het rooster van de kindernevendienst. Genesis 3 staat centraal, ook wel bekend als het verhaal van de ‘zondeval.‘ Naast Genesis 3: 1-14 lezen we Handelingen 5: 1-11, over Ananias en Safira. Wat blijkt is dat het verhaal van de ‘zondeval‘ niet alleen iets van toen is, maar vooral ook van nu. We gaan met elkaar op zoek naar de relevantie van deze verhalen op deze zondag twee weken na Pasen.</p><p>Heel welkom!</p><hr /><p>Voorganger: ds. Jan-Willem Leurgans<br />Koster: Remco Verschoor<br />Organist/pianist: Bart Willemsen<br />Lector: Angela Brons<br />Oppas: Annemiek Vliek En Sanne Veeningen<br />Kindernevendienst: Rachel van Winkoop</p><hr /><p>Orde van dienst</p><ul><li>Lied/ Psalm 116: 1,3,5 God heb ik lief</li><li>Lied: U zij de glorie</li><li>Genesis 3: 1-14</li><li>Lied 944: 1,3 O Heer, verberg U niet voor mij</li><li>Handelingen 5: 1-11</li><li>Katern 11 Jezus U bent het licht in ons leven</li><li>Hemelhoog 460A: Ik zal er zijn&nbsp;</li><li>ELB 235: 1,2,3&nbsp;&nbsp;Neem Heer mijn beide handen</li></ul><hr /><p>Inzameling<br />&gt; 1e collecte: werelddiaconaat<br />&gt; 2e collecte: kerk</p><p>U kunt uw gift overmaken naar&nbsp;<strong>NL63 RABO 0373 7406 697</strong>&nbsp;of via de optie 'geven' in de&nbsp;<a href="https://gift.donkeymobile.com/app.donkeymobile.ermelopkngk">GK Ermelo app</a>.&nbsp;</p><hr /><p>De diensten zijn te volgen via <a href="https://www.kerkomroep.nl/#/kerken/10966" target="_self">kerkomroep.nl </a>of YouTube met de link: <a href="https://www.youtube.com/channel/UCCF1xJhFOz-ceiPvSW49rrQ" target="_self">bit.ly/maranathakerk</a></p>
LAST-MODIFIED:20260419T074854Z
SEQUENCE:29257443
X-ACCESS:2
X-HITS:0
X-COLOR:cc6d00
X-SHOW-END-TIME:0
END:VEVENT
BEGIN:VEVENT
DTSTART;TZID=Europe/Amsterdam:20260426T100000
DTEND;TZID=Europe/Amsterdam:20260426T110000
UID:428D6226-E7E7-451A-B7D0-4A6BF69EF902
RECURRENCE-ID:20260426T080000Z
SUMMARY:Kerkdienst Maranathakerk 
CREATED:20250515T164451Z
DTSTAMP:20250515T164451Z
URL:https://mijn.gkermelo.nl/components/com_dpcalendar/agenda/kerkdienst-maranathakerk-7-1777190400
DESCRIPTION:Als er iets is dat we nodig hebben in deze tijden, dan is het wel hoop. In het kerkelijk jaar bevinden we ons ergens tussen Pasen en Pinksteren. Iemand zei: wij staan, net als bezet West-Europa na 6 juni 1944 ergens tussen D-day en V-day. D-day, dat is Pasen, dat ligt achter ons en V-day, dat is de dag van de Victory, de overwinning van Christus, als  de nieuwe aarde komt, de volmaakte vrede. Daarom blijven we ondanks alles hoopvol: omdat Jezus - die kwetsbare jood en tegelijk de meest hoopvolle mens - is opgestaan uit het graf. In de dienst gaan we lezen uit Romeinen 8, een hoofdstuk vol van hoop. Van harte welkom!\N\NVoorganger: ds. Henk-Jan de GrootKoster: Theo MeijerOrganist/pianist: Wout van VeenLector: Jan Henk NijkampOppas: Janet en Sil HamKindernevendienst: Arda Kwant\N\NOrde van dienst\N\NInzameling> 1e collecte: missionair werk - kliederkerk> 2e collecte: kerk\NU kunt uw gift overmaken naar NL63 RABO 0373 7406 697 of via de optie 'geven' in de GK Ermelo app. \N\NDe diensten zijn te volgen via kerkomroep.nl of YouTube met de link: bit.ly/maranathakerk
X-ALT-DESC;FMTTYPE=text/html:<p>Als er iets is dat we nodig hebben in deze tijden, dan is het wel hoop. In het kerkelijk jaar bevinden we ons ergens tussen Pasen en Pinksteren. Iemand zei: wij staan, net als bezet West-Europa na 6 juni 1944 ergens tussen D-day en V-day. D-day, dat is Pasen, dat ligt achter ons en V-day, dat is de dag van de Victory, de overwinning van Christus, als&nbsp;&nbsp;de nieuwe aarde komt, de volmaakte vrede. Daarom blijven we ondanks alles hoopvol:&nbsp;omdat Jezus - die kwetsbare jood en tegelijk de meest hoopvolle mens - is opgestaan uit het graf. In de dienst gaan we lezen uit Romeinen 8, een hoofdstuk vol van hoop. Van harte welkom!</p><hr /><p>Voorganger: ds. Henk-Jan de Groot<br />Koster: Theo Meijer<br />Organist/pianist: Wout van Veen<br />Lector: Jan Henk Nijkamp<br />Oppas: Janet en Sil Ham<br />Kindernevendienst: Arda Kwant</p><hr /><p>Orde van dienst</p><hr /><p>Inzameling<br />&gt; 1e collecte: missionair werk - kliederkerk<br />&gt; 2e collecte: kerk</p><p>U kunt uw gift overmaken naar&nbsp;<strong>NL63 RABO 0373 7406 697</strong>&nbsp;of via de optie 'geven' in de&nbsp;<a href="https://gift.donkeymobile.com/app.donkeymobile.ermelopkngk">GK Ermelo app</a>.&nbsp;</p><hr /><p>De diensten zijn te volgen via <a href="https://www.kerkomroep.nl/#/kerken/10966" target="_self">kerkomroep.nl </a>of YouTube met de link: <a href="https://www.youtube.com/channel/UCCF1xJhFOz-ceiPvSW49rrQ" target="_self">bit.ly/maranathakerk</a></p>
LAST-MODIFIED:20260417T172744Z
SEQUENCE:29119373
X-ACCESS:2
X-HITS:0
X-COLOR:cc6d00
X-SHOW-END-TIME:0
END:VEVENT
BEGIN:VEVENT
DTSTART;TZID=Europe/Amsterdam:20260426T150000
DTEND;TZID=Europe/Amsterdam:20260426T160000
UID:88AA60EE-7260-4C4B-A35C-AF902DCF03B4
SUMMARY:Sing-in op camping Kriemelberg Bushcamp
CREATED:20260410T162459Z
DTSTAMP:20260410T162459Z
URL:https://mijn.gkermelo.nl/components/com_dpcalendar/agenda/sing-in-op-camping-kriemelberg-bushcamp
DESCRIPTION:Wat is het goed om de dag voor Koningsdag in vrijheid bij elkaar te komen om onze Koning te eren en aanbidden. We zingen liederen van oud tot nieuw voor jong en oud, afgewisseld met stukjes ter overdenking. \NWe zien je graag op Kriemelberg Bushcamp: Drieërweg 104 in Ermelo
X-ALT-DESC;FMTTYPE=text/html:<p>Wat is het goed om de dag voor Koningsdag in vrijheid bij elkaar te komen om onze Koning te eren en aanbidden. We zingen liederen van oud tot nieuw voor jong en oud, afgewisseld met stukjes ter overdenking.&nbsp;</p><p>We zien je graag op Kriemelberg Bushcamp: Drieërweg 104 in Ermelo</p>
LAST-MODIFIED:20260410T162459Z
SEQUENCE:0
X-ACCESS:2
X-HITS:0
X-COLOR:cc6d00
X-SHOW-END-TIME:0
END:VEVENT
END:VCALENDAR